BEGIN:VCALENDAR
VERSION:2.0
PRODID:-//wp-events-plugin.com//7.2.3//EN
TZID:Europe/Madrid
X-WR-TIMEZONE:Europe/Madrid
BEGIN:VEVENT
UID:2926@elshostaletsdepierola.cat
DTSTART;TZID=Europe/Madrid:20260314T120000
DTEND;TZID=Europe/Madrid:20260314T130000
DTSTAMP:20260311T065229Z
URL:https://elshostaletsdepierola.cat/events/fundacio-del-gremi-de-pi-erol
 a/
SUMMARY:Fundació del gremi de PI-erola
DESCRIPTION:
ATTACH;FMTTYPE=image/jpeg:https://elshostaletsdepierola.cat/wp-content/upl
 oads/2026/03/gremi-pi-erola.jpeg
CATEGORIES:Cultura,Entitats,Esdeveniments
LOCATION:Teatre del Casal Català\, Av. Catalunya\, Els Hostalets de Pierol
 a\, Espanya
X-APPLE-STRUCTURED-LOCATION;VALUE=URI;X-ADDRESS=Av. Catalunya\, Els Hostale
 ts de Pierola\, Espanya;X-APPLE-RADIUS=100;X-TITLE=Teatre del Casal Catal
 à:geo:0,0
END:VEVENT
BEGIN:VTIMEZONE
TZID:Europe/Madrid
X-LIC-LOCATION:Europe/Madrid
BEGIN:STANDARD
DTSTART:20251026T020000
TZOFFSETFROM:+0200
TZOFFSETTO:+0100
TZNAME:CET
END:STANDARD
END:VTIMEZONE
END:VCALENDAR