BEGIN:VCALENDAR
VERSION:2.0
PRODID:-//wp-events-plugin.com//7.2.3//EN
TZID:Europe/Madrid
X-WR-TIMEZONE:Europe/Madrid
BEGIN:VEVENT
UID:1441@elshostaletsdepierola.cat
DTSTART:20211217T230000Z
DTEND:20211231T220000Z
DTSTAMP:20211216T115959Z
URL:https://elshostaletsdepierola.cat/events/gimcana-de-nadal/
SUMMARY:Gimcana de Nadal
DESCRIPTION:
ATTACH;FMTTYPE=image/jpeg:https://elshostaletsdepierola.cat/wp-content/upl
 oads/2021/12/gimcananadal.png
CATEGORIES:Esdeveniments,Festes,newsletter,Tradicions
END:VEVENT
END:VCALENDAR