BEGIN:VCALENDAR
VERSION:2.0
PRODID:-//wp-events-plugin.com//7.2.3//EN
TZID:Europe/Madrid
X-WR-TIMEZONE:Europe/Madrid
BEGIN:VEVENT
UID:72@elshostaletsdepierola.cat
DTSTART:20160311T200000Z
DTEND:20160311T220000Z
DTSTAMP:20160309T115122Z
URL:https://elshostaletsdepierola.cat/events/guillemi-en-concert-als-hosta
 lets-de-pierola/
SUMMARY:Guillemí en concert als Hostalets de Pierola
DESCRIPTION:CEM Cal Maristany i l'Associació per la Cultura dels Hostalets
  de Pierola organitzen el concert del Trio Guillemí el proper divendres\,
  11 de març de 2016.\n\n&nbsp\;
ATTACH;FMTTYPE=image/jpeg:https://elshostaletsdepierola.cat/wp-content/upl
 oads/2016/03/Guillemí.jpg
CATEGORIES:Cultura,Esdeveniments,newsletter
LOCATION:Auditori de Cal Figueres\, Plaça Cal Figueres 1\, Hostalets de Pi
 erola\, Espanya
GEO:41.5348287;1.7685406000000512
X-APPLE-STRUCTURED-LOCATION;VALUE=URI;X-ADDRESS=Plaça Cal Figueres 1\, Hos
 talets de Pierola\, Espanya;X-APPLE-RADIUS=100;X-TITLE=Auditori de Cal Fig
 ueres:geo:41.5348287,1.7685406000000512
END:VEVENT
END:VCALENDAR