BEGIN:VCALENDAR
VERSION:2.0
PRODID:-//wp-events-plugin.com//7.2.3//EN
TZID:Europe/Madrid
X-WR-TIMEZONE:Europe/Madrid
BEGIN:VEVENT
UID:2613@elshostaletsdepierola.cat
DTSTART;TZID=Europe/Madrid:20241213T180000
DTEND;TZID=Europe/Madrid:20241213T190000
DTSTAMP:20241212T104526Z
URL:https://elshostaletsdepierola.cat/events/hora-del-conte-nadal/
SUMMARY:Hora del Conte Nadal
DESCRIPTION:Edició especial a la Torre del Sr. Enric a càrrec de l'Imma F
 lo Vallès i taller de decoració de Nadal.
ATTACH;FMTTYPE=image/jpeg:https://elshostaletsdepierola.cat/wp-content/upl
 oads/2024/12/hcdes24.png
CATEGORIES:Cultura,Esdeveniments,Festes
END:VEVENT
BEGIN:VTIMEZONE
TZID:Europe/Madrid
X-LIC-LOCATION:Europe/Madrid
BEGIN:STANDARD
DTSTART:20241027T020000
TZOFFSETFROM:+0200
TZOFFSETTO:+0100
TZNAME:CET
END:STANDARD
END:VTIMEZONE
END:VCALENDAR