BEGIN:VCALENDAR
VERSION:2.0
PRODID:-//wp-events-plugin.com//7.2.3//EN
TZID:Europe/Madrid
X-WR-TIMEZONE:Europe/Madrid
BEGIN:VEVENT
UID:2445@elshostaletsdepierola.cat
DTSTART;TZID=Europe/Madrid:20240404T193000
DTEND;TZID=Europe/Madrid:20240404T193000
DTSTAMP:20240329T073202Z
URL:https://elshostaletsdepierola.cat/events/iftar24/
SUMMARY:Iftar\, trencament del dejuni
DESCRIPTION:19.30h | Auditori Cal Figueres\n\nActivitat de trencament del d
 ejuni en un dia de Ramadà.\n\nInscripcions gratuïtes al codi QR de la im
 atge\, al whatsapp 617304503 o per correu electrònic a sferret@anoia.cat.
  Fins al 3 d'abril. Aforament limitat
ATTACH;FMTTYPE=image/jpeg:https://elshostaletsdepierola.cat/wp-content/upl
 oads/2024/03/iftar.png
CATEGORIES:Entitats,Esdeveniments
END:VEVENT
BEGIN:VTIMEZONE
TZID:Europe/Madrid
X-LIC-LOCATION:Europe/Madrid
BEGIN:DAYLIGHT
DTSTART:20240331T030000
TZOFFSETFROM:+0100
TZOFFSETTO:+0200
TZNAME:CEST
END:DAYLIGHT
END:VTIMEZONE
END:VCALENDAR