BEGIN:VCALENDAR
VERSION:2.0
PRODID:-//wp-events-plugin.com//7.2.3//EN
TZID:Europe/Madrid
X-WR-TIMEZONE:Europe/Madrid
BEGIN:VEVENT
UID:182@elshostaletsdepierola.cat
DTSTART:20160924T120000Z
DTEND:20161009T120000Z
DTSTAMP:20160927T093808Z
URL:https://elshostaletsdepierola.cat/events/inauguracio-exposicio-jaume-e
 steve/
SUMMARY:24 de setembre. Exposició Jaume Esteve
DESCRIPTION:
ATTACH;FMTTYPE=image/jpeg:https://elshostaletsdepierola.cat/wp-content/upl
 oads/2016/09/Cartell-Jaume-Esteve.jpg
CATEGORIES:Cultura,Esdeveniments,newsletter
LOCATION:Espai de Cultura Cal Batista\, Carrer Major\, 1\, Els Hostalets de
  Pierola\, Espanya
GEO:41.385059;1.9314653000000135
X-APPLE-STRUCTURED-LOCATION;VALUE=URI;X-ADDRESS=Carrer Major\, 1\, Els Host
 alets de Pierola\, Espanya;X-APPLE-RADIUS=100;X-TITLE=Espai de Cultura Cal
  Batista:geo:41.385059,1.9314653000000135
END:VEVENT
END:VCALENDAR