BEGIN:VCALENDAR
VERSION:2.0
PRODID:-//wp-events-plugin.com//7.2.3//EN
TZID:Europe/Madrid
X-WR-TIMEZONE:Europe/Madrid
BEGIN:VEVENT
UID:2455@elshostaletsdepierola.cat
DTSTART;TZID=Europe/Madrid:20240418T153000
DTEND;TZID=Europe/Madrid:20240428T153000
DTSTAMP:20240408T062337Z
URL:https://elshostaletsdepierola.cat/events/inauguracio-exposicio-treball
 s-ie-renaixenca/
SUMMARY:Inauguració exposició treballs IE Renaixença
DESCRIPTION:Cal Batista | 15.30h\n\nInauguració de l'exposició de treball
 s dels alumnes de 1r d'ESO de l'l'IE Renaixença. Es podrà visitar els di
 es 19\,20\,21\,27 i 28 d'abril\, de 17 a 20h
CATEGORIES:Cultura
LOCATION:Espai de Cultura Cal Batista\, Carrer Major\, 1\, Els Hostalets de
  Pierola\, Espanya
GEO:41.385059;1.9314653000000135
X-APPLE-STRUCTURED-LOCATION;VALUE=URI;X-ADDRESS=Carrer Major\, 1\, Els Host
 alets de Pierola\, Espanya;X-APPLE-RADIUS=100;X-TITLE=Espai de Cultura Cal
  Batista:geo:41.385059,1.9314653000000135
END:VEVENT
BEGIN:VTIMEZONE
TZID:Europe/Madrid
X-LIC-LOCATION:Europe/Madrid
BEGIN:DAYLIGHT
DTSTART:20240331T030000
TZOFFSETFROM:+0100
TZOFFSETTO:+0200
TZNAME:CEST
END:DAYLIGHT
END:VTIMEZONE
END:VCALENDAR