BEGIN:VCALENDAR
VERSION:2.0
PRODID:-//wp-events-plugin.com//7.2.3//EN
TZID:Europe/Madrid
X-WR-TIMEZONE:Europe/Madrid
BEGIN:VEVENT
UID:2948@elshostaletsdepierola.cat
DTSTART;TZID=Europe/Madrid:20260404T180000
DTEND;TZID=Europe/Madrid:20260404T200000
DTSTAMP:20260401T074452Z
URL:https://elshostaletsdepierola.cat/events/l1-vs-1-de-la-titus/
SUMMARY:L'1 vs 1 de la Titus
DESCRIPTION:
ATTACH;FMTTYPE=image/jpeg:https://elshostaletsdepierola.cat/wp-content/upl
 oads/2026/04/titusleague4ab.png
CATEGORIES:Esdeveniments,Esport
LOCATION:Cruyff Court Els Hostalets de Pierola\, Parc Cal Ponsa\, Els Hosta
 lets de Pierola\, Espanya
X-APPLE-STRUCTURED-LOCATION;VALUE=URI;X-ADDRESS=Parc Cal Ponsa\, Els Hostal
 ets de Pierola\, Espanya;X-APPLE-RADIUS=100;X-TITLE=Cruyff Court Els Hosta
 lets de Pierola:geo:0,0
END:VEVENT
BEGIN:VTIMEZONE
TZID:Europe/Madrid
X-LIC-LOCATION:Europe/Madrid
BEGIN:DAYLIGHT
DTSTART:20260329T030000
TZOFFSETFROM:+0100
TZOFFSETTO:+0200
TZNAME:CEST
END:DAYLIGHT
END:VTIMEZONE
END:VCALENDAR