BEGIN:VCALENDAR
VERSION:2.0
PRODID:-//wp-events-plugin.com//7.2.3//EN
TZID:Europe/Madrid
X-WR-TIMEZONE:Europe/Madrid
BEGIN:VEVENT
UID:214@elshostaletsdepierola.cat
DTSTART:20161218T090000Z
DTEND:20161218T140000Z
DTSTAMP:20161215T142438Z
URL:https://elshostaletsdepierola.cat/events/marxa-btt-pedals-marato-tv3/
SUMMARY:18 desembre. Marxa BTT Pedals per La Marató TV3
DESCRIPTION:
ATTACH;FMTTYPE=image/jpeg:https://elshostaletsdepierola.cat/wp-content/upl
 oads/2016/11/BTT-LA-MARATO.jpg
CATEGORIES:Esdeveniments,Esport,newsletter
END:VEVENT
END:VCALENDAR