BEGIN:VCALENDAR
VERSION:2.0
PRODID:-//wp-events-plugin.com//7.2.3//EN
TZID:Europe/Madrid
X-WR-TIMEZONE:Europe/Madrid
BEGIN:VEVENT
UID:2908@elshostaletsdepierola.cat
DTSTART;TZID=Europe/Madrid:20260219T080000
DTEND;TZID=Europe/Madrid:20260219T150000
DTSTAMP:20260218T004127Z
URL:https://elshostaletsdepierola.cat/events/marxa-nordica-esplugues/
SUMMARY:Marxa nòrdica: Esplugues
DESCRIPTION:PROGRAMA PREVIST\n\n08.00 Sortida de l'autobús a la plaça del
 s Països Catalans09.30 Arribada al CEM Les Moreres (WC)09.30 Esmorzar (no
  hi ha servei de bar)09.45 Benvinguda de les autoritats10.00 Sessió d'esc
 alfament10.15 Inici de la passejada\nEspai BarondaParc dels Torrents\, de 
 la Solidaritat i de Can Vidalet. Activitat grupal\n12.45 Visita patrimonia
 l i cultural a l'Espai Corberó13.15 CEM Les Moreres. Dinar i lavabos14.45
  Comiat dels participants
ATTACH;FMTTYPE=image/jpeg:https://elshostaletsdepierola.cat/wp-content/upl
 oads/2026/02/espaibaronda.jpg
CATEGORIES:Esdeveniments,Gent Gran,Salut
LOCATION:Plaça dels Països Catalans\, Plaça dels Països Catalans\, Els 
 Hostalets de Pierola\, Espanya
X-APPLE-STRUCTURED-LOCATION;VALUE=URI;X-ADDRESS=Plaça dels Països Catalan
 s\, Els Hostalets de Pierola\, Espanya;X-APPLE-RADIUS=100;X-TITLE=Plaça d
 els Països Catalans:geo:0,0
END:VEVENT
BEGIN:VTIMEZONE
TZID:Europe/Madrid
X-LIC-LOCATION:Europe/Madrid
BEGIN:STANDARD
DTSTART:20251026T020000
TZOFFSETFROM:+0200
TZOFFSETTO:+0100
TZNAME:CET
END:STANDARD
END:VTIMEZONE
END:VCALENDAR