BEGIN:VCALENDAR
VERSION:2.0
PRODID:-//wp-events-plugin.com//7.2.3//EN
TZID:Europe/Madrid
X-WR-TIMEZONE:Europe/Madrid
BEGIN:VEVENT
UID:2016@elshostaletsdepierola.cat
DTSTART;TZID=Europe/Madrid:20230402T120000
DTEND;TZID=Europe/Madrid:20230402T130000
DTSTAMP:20230330T121520Z
URL:https://elshostaletsdepierola.cat/events/missa-diumenge-de-rams-ss23/
SUMMARY:Missa Diumenge de Rams (SS23)
DESCRIPTION:
ATTACH;FMTTYPE=image/jpeg:https://elshostaletsdepierola.cat/wp-content/upl
 oads/2023/03/f8845540-b5f3-43a8-a93c-aa1ca3c98ee6.jpeg
CATEGORIES:Cultura,Esdeveniments,Festes,newsletter
LOCATION:Església de Sant Pere\, carrer de l'Església\, 18\, Els Hostalet
 s de Pierola\, Spain\, 08781\, Espanya
GEO:41.8162788;2.2353897000000416
X-APPLE-STRUCTURED-LOCATION;VALUE=URI;X-ADDRESS=carrer de l'Església\, 18\
 , Els Hostalets de Pierola\, Spain\, 08781\, Espanya;X-APPLE-RADIUS=100;X-
 TITLE=Església de Sant Pere:geo:41.8162788,2.2353897000000416
END:VEVENT
BEGIN:VTIMEZONE
TZID:Europe/Madrid
X-LIC-LOCATION:Europe/Madrid
BEGIN:DAYLIGHT
DTSTART:20230326T030000
TZOFFSETFROM:+0100
TZOFFSETTO:+0200
TZNAME:CEST
END:DAYLIGHT
END:VTIMEZONE
END:VCALENDAR