BEGIN:VCALENDAR
VERSION:2.0
PRODID:-//wp-events-plugin.com//7.2.3//EN
TZID:Europe/Madrid
X-WR-TIMEZONE:Europe/Madrid
BEGIN:VEVENT
UID:2717@elshostaletsdepierola.cat
DTSTART;TZID=Europe/Madrid:20250518T090000
DTEND;TZID=Europe/Madrid:20250518T130000
DTSTAMP:20250502T081844Z
URL:https://elshostaletsdepierola.cat/events/mototerra25/
SUMMARY:Mototerra
DESCRIPTION:
ATTACH;FMTTYPE=image/jpeg:https://elshostaletsdepierola.cat/wp-content/upl
 oads/2025/05/mototerra.png
CATEGORIES:Esdeveniments,Esport
LOCATION:Camí de Can Peret\, Camí de Can Peret\, Hostalets de Pierola\, B
 arcelona\, 08781\, Espanya
GEO:41.533847;1.770257000000015
X-APPLE-STRUCTURED-LOCATION;VALUE=URI;X-ADDRESS=Camí de Can Peret\, Hostal
 ets de Pierola\, Barcelona\, 08781\, Espanya;X-APPLE-RADIUS=100;X-TITLE=Ca
 mí de Can Peret:geo:41.533847,1.770257000000015
END:VEVENT
BEGIN:VTIMEZONE
TZID:Europe/Madrid
X-LIC-LOCATION:Europe/Madrid
BEGIN:DAYLIGHT
DTSTART:20250330T030000
TZOFFSETFROM:+0100
TZOFFSETTO:+0200
TZNAME:CEST
END:DAYLIGHT
END:VTIMEZONE
END:VCALENDAR