BEGIN:VCALENDAR
VERSION:2.0
PRODID:-//wp-events-plugin.com//7.2.3//EN
TZID:Europe/Madrid
X-WR-TIMEZONE:Europe/Madrid
BEGIN:VEVENT
UID:152@elshostaletsdepierola.cat
DTSTART:20160715T220000Z
DTEND:20160715T230000Z
DTSTAMP:20160712T140706Z
URL:https://elshostaletsdepierola.cat/events/nits-destiu-fresca-alba-pujo/
SUMMARY:15 de juliol. Nits d'estiu a la fresca: Alba Pujol & Eugeni Muriel
DESCRIPTION:
ATTACH;FMTTYPE=image/jpeg:https://elshostaletsdepierola.cat/wp-content/upl
 oads/2016/07/CARTELL-ALBAEUGENI-2BSIX.jpg
CATEGORIES:Cultura,Esdeveniments,newsletter
LOCATION:CRIP\, Aureli Roviralta\,1\, Els Hostalets de Pierola\, Espanya
GEO:41.535661;1.7652459999999337
X-APPLE-STRUCTURED-LOCATION;VALUE=URI;X-ADDRESS=Aureli Roviralta\,1\, Els H
 ostalets de Pierola\, Espanya;X-APPLE-RADIUS=100;X-TITLE=CRIP:geo:41.53566
 1,1.7652459999999337
END:VEVENT
END:VCALENDAR