BEGIN:VCALENDAR
VERSION:2.0
PRODID:-//wp-events-plugin.com//7.2.3//EN
TZID:Europe/Madrid
X-WR-TIMEZONE:Europe/Madrid
BEGIN:VEVENT
UID:2488@elshostaletsdepierola.cat
DTSTART;TZID=Europe/Madrid:20240605T120000
DTEND;TZID=Europe/Madrid:20240605T130000
DTSTAMP:20240517T060923Z
URL:https://elshostaletsdepierola.cat/events/oficina-datencio-al-consumido
 r/
SUMMARY:Oficina d'atenció al consumidor
DESCRIPTION:L’Oficina Mòbil d’Informació al Consumidor de la Diputaci
 ó de Barcelona que fa atenció als Hostalets de Pierola\, atendrà aquest
  dimecres 5 de juny de 12.00 a 13.00 a l'oficina mòbil\, instal·lada dav
 ant la Torre del Sr. Enric per resoldre les consultes i reclamacions dels 
 usuaris que precisin aquest servei.
ATTACH;FMTTYPE=image/jpeg:https://elshostaletsdepierola.cat/wp-content/upl
 oads/2023/09/ochdp-1.jpg
CATEGORIES:Esdeveniments
LOCATION:Hostalets de Pierola\, Plaça Cal Figueres\, Els Hostalets de Pier
 ola\, Barcelona\, 08784\, Espanya
GEO:41.5340289;1.770080499999949
X-APPLE-STRUCTURED-LOCATION;VALUE=URI;X-ADDRESS=Plaça Cal Figueres\, Els H
 ostalets de Pierola\, Barcelona\, 08784\, Espanya;X-APPLE-RADIUS=100;X-TIT
 LE=Hostalets de Pierola:geo:41.5340289,1.770080499999949
END:VEVENT
BEGIN:VTIMEZONE
TZID:Europe/Madrid
X-LIC-LOCATION:Europe/Madrid
BEGIN:DAYLIGHT
DTSTART:20240331T030000
TZOFFSETFROM:+0100
TZOFFSETTO:+0200
TZNAME:CEST
END:DAYLIGHT
END:VTIMEZONE
END:VCALENDAR