BEGIN:VCALENDAR
VERSION:2.0
PRODID:-//wp-events-plugin.com//7.2.3//EN
TZID:Europe/Madrid
X-WR-TIMEZONE:Europe/Madrid
BEGIN:VEVENT
UID:2582@elshostaletsdepierola.cat
DTSTART;TZID=Europe/Madrid:20241108T180000
DTEND;TZID=Europe/Madrid:20241108T180000
DTSTAMP:20241028T064648Z
URL:https://elshostaletsdepierola.cat/events/ones-de-dones/
SUMMARY:Ones de Dones
DESCRIPTION:Divendres 8 de novembre | 18.00h Auditori Cal Figueres\n\nPropo
 sta teatral en què les dones ocupen l'espai físic i sonor\, existint\, d
 e manera transformadora.
ATTACH;FMTTYPE=image/jpeg:https://elshostaletsdepierola.cat/wp-content/upl
 oads/2024/10/3.jpg
CATEGORIES:Cultura,Esdeveniments
END:VEVENT
BEGIN:VTIMEZONE
TZID:Europe/Madrid
X-LIC-LOCATION:Europe/Madrid
BEGIN:STANDARD
DTSTART:20241027T020000
TZOFFSETFROM:+0200
TZOFFSETTO:+0100
TZNAME:CET
END:STANDARD
END:VTIMEZONE
END:VCALENDAR