BEGIN:VCALENDAR
VERSION:2.0
PRODID:-//wp-events-plugin.com//7.2.3//EN
TZID:Europe/Madrid
X-WR-TIMEZONE:Europe/Madrid
BEGIN:VEVENT
UID:273@elshostaletsdepierola.cat
DTSTART:20170330T201500Z
DTEND:20170330T224500Z
DTSTAMP:20170324T090307Z
URL:https://elshostaletsdepierola.cat/events/opera-madama-butterfly/
SUMMARY:30 de març. Òpera en directe: Madama Butterfly
DESCRIPTION:
CATEGORIES:Cultura,Esdeveniments,newsletter
LOCATION:Auditori de Cal Figueres\, Plaça Cal Figueres 1\, Hostalets de Pi
 erola\, Espanya
GEO:41.5348287;1.7685406000000512
X-APPLE-STRUCTURED-LOCATION;VALUE=URI;X-ADDRESS=Plaça Cal Figueres 1\, Hos
 talets de Pierola\, Espanya;X-APPLE-RADIUS=100;X-TITLE=Auditori de Cal Fig
 ueres:geo:41.5348287,1.7685406000000512
END:VEVENT
END:VCALENDAR