BEGIN:VCALENDAR
VERSION:2.0
PRODID:-//wp-events-plugin.com//7.2.3//EN
TZID:Europe/Madrid
X-WR-TIMEZONE:Europe/Madrid
BEGIN:VEVENT
UID:2049@elshostaletsdepierola.cat
DTSTART;TZID=Europe/Madrid:20230423T090000
DTEND;TZID=Europe/Madrid:20230423T200000
DTSTAMP:20230420T163152Z
URL:https://elshostaletsdepierola.cat/events/parades-de-sant-jordi/
SUMMARY:Parades de Sant Jordi
DESCRIPTION:
ATTACH;FMTTYPE=image/jpeg:https://elshostaletsdepierola.cat/wp-content/upl
 oads/2023/04/img_6605.jpeg
CATEGORIES:Cultura,Esdeveniments,Festes,newsletter
END:VEVENT
BEGIN:VTIMEZONE
TZID:Europe/Madrid
X-LIC-LOCATION:Europe/Madrid
BEGIN:DAYLIGHT
DTSTART:20230326T030000
TZOFFSETFROM:+0100
TZOFFSETTO:+0200
TZNAME:CEST
END:DAYLIGHT
END:VTIMEZONE
END:VCALENDAR