BEGIN:VCALENDAR
VERSION:2.0
PRODID:-//wp-events-plugin.com//7.2.3//EN
TZID:Europe/Madrid
X-WR-TIMEZONE:Europe/Madrid
BEGIN:VEVENT
UID:1391@elshostaletsdepierola.cat
DTSTART:20211023T070000Z
DTEND:20211024T120000Z
DTSTAMP:20211021T114153Z
URL:https://elshostaletsdepierola.cat/events/partits-del-cf-hostalets-6/
SUMMARY:Partits del CF Hostalets
DESCRIPTION:&nbsp\;\n\nAleví B Descansa\n\nDISSABTE 23 D'OCTUBRE\n\n\n09.0
 0 Vilanova 2015 - Infantil B\n10.00 Base Olerdola - Infantil A\n11.00 Preb
 enjamí - Roquetes\n11.00 Benjamí A - Masquefa\n16.30 La Palma de Cervell
 ó - Veterans\n18.45 Capellades - Juvenil\n\nDIUMENGE 24 D'OCTUBRE\n\n10.0
 0 Aleví A - Calaf\n10.00 Òdena - Femení\n12.00 Igualada - Benjamí B\n
 12.00 Amateur - Rebrot
ATTACH;FMTTYPE=image/jpeg:https://elshostaletsdepierola.cat/wp-content/upl
 oads/2017/05/logo-futbol.jpg
CATEGORIES:Esdeveniments,Esport,newsletter
END:VEVENT
END:VCALENDAR