BEGIN:VCALENDAR
VERSION:2.0
PRODID:-//wp-events-plugin.com//7.2.3//EN
TZID:Europe/Madrid
X-WR-TIMEZONE:Europe/Madrid
BEGIN:VEVENT
UID:2825@elshostaletsdepierola.cat
DTSTART;TZID=Europe/Madrid:20251101T200000
DTEND;TZID=Europe/Madrid:20251101T235900
DTSTAMP:20251028T125411Z
URL:https://elshostaletsdepierola.cat/events/passatge-del-terror/
SUMMARY:Passatge del terror
DESCRIPTION:Bar del local social de Serra Alta\n\n20.00 Sopar i servei de b
 ar\n20.30 Passatge del Terror\n22.30 Dj Karlos
ATTACH;FMTTYPE=image/jpeg:https://elshostaletsdepierola.cat/wp-content/upl
 oads/2025/10/terror.jpg
CATEGORIES:Esdeveniments,Festes,Serra Alta
LOCATION:Local Social "polideportivo" Serra Alta\, Serra Alta\, Els Hostale
 ts de Pierola\, Barcelona\, Espanya
GEO:41.55165339991715;1.801503057177797
X-APPLE-STRUCTURED-LOCATION;VALUE=URI;X-ADDRESS=Serra Alta\, Els Hostalets 
 de Pierola\, Barcelona\, Espanya;X-APPLE-RADIUS=100;X-TITLE=Local Social \
 "polideportivo\" Serra Alta:geo:41.55165339991715,1.801503057177797
END:VEVENT
BEGIN:VTIMEZONE
TZID:Europe/Madrid
X-LIC-LOCATION:Europe/Madrid
BEGIN:STANDARD
DTSTART:20251026T020000
TZOFFSETFROM:+0200
TZOFFSETTO:+0100
TZNAME:CET
END:STANDARD
END:VTIMEZONE
END:VCALENDAR