BEGIN:VCALENDAR
VERSION:2.0
PRODID:-//wp-events-plugin.com//7.2.3//EN
TZID:Europe/Madrid
X-WR-TIMEZONE:Europe/Madrid
BEGIN:VEVENT
UID:2958@elshostaletsdepierola.cat
DTSTART;TZID=Europe/Madrid:20260506T080000
DTEND;TZID=Europe/Madrid:20260506T170000
DTSTAMP:20260420T100104Z
URL:https://elshostaletsdepierola.cat/events/passejada-final-marxa-nordica
 /
SUMMARY:Passejada final (marxa nòrdica)
DESCRIPTION:08:00 h | Sortida de l'autocar (Plaça Països Catalans\, Els H
 ostalets de Pierola).\n09:15 - 09:30 h | Arribada dels municipis participa
 nts.\n09:30 - 10:10 h | Presentació\, recollida de gorres i esmorzar.\n10
 :10 - 10:15 h | Desplaçament al punt d'inici.\n10:15 - 10:50 h | Primera 
 activitat: Activació. Exercicis conjunts.\n11:00 - 13:15 h | Segona activ
 itat: Caminada. Recorregut col·lectiu.\n13:15 - 14:00 h | Tercera activit
 at: Tornada a la calma.\n14:00 - 15:00 h | Dinar.\n15:00 - 16:00 h | Quart
 a activitat: Ball. Activitat conjunta de fi de festa.\n16:00 - 16:30 h | P
 arlaments de les autoritats i lliurament de diplomes.\n16:30 h | Sortida d
 els autocars de tornada.\n18:00 h | Arribada aproximada als Hostalets de P
 ierola.
ATTACH;FMTTYPE=image/jpeg:https://elshostaletsdepierola.cat/wp-content/upl
 oads/2026/04/caminada-gg.jpg
CATEGORIES:Esdeveniments,Esport,Gent Gran
LOCATION:Plaça dels Països Catalans\, Plaça dels Països Catalans\, Els 
 Hostalets de Pierola\, Espanya
X-APPLE-STRUCTURED-LOCATION;VALUE=URI;X-ADDRESS=Plaça dels Països Catalan
 s\, Els Hostalets de Pierola\, Espanya;X-APPLE-RADIUS=100;X-TITLE=Plaça d
 els Països Catalans:geo:0,0
END:VEVENT
BEGIN:VTIMEZONE
TZID:Europe/Madrid
X-LIC-LOCATION:Europe/Madrid
BEGIN:DAYLIGHT
DTSTART:20260329T030000
TZOFFSETFROM:+0100
TZOFFSETTO:+0200
TZNAME:CEST
END:DAYLIGHT
END:VTIMEZONE
END:VCALENDAR