BEGIN:VCALENDAR
VERSION:2.0
PRODID:-//wp-events-plugin.com//7.2.3//EN
TZID:Europe/Madrid
X-WR-TIMEZONE:Europe/Madrid
BEGIN:VEVENT
UID:2314@elshostaletsdepierola.cat
DTSTART;TZID=Europe/Madrid:20231217T120000
DTEND;TZID=Europe/Madrid:20231217T120000
DTSTAMP:20231214T091258Z
URL:https://elshostaletsdepierola.cat/events/patinem-per-la-marato/
SUMMARY:Patinem per la Marató
DESCRIPTION:12.00 | Carpa de la pista poliesportiva\n\nEl CP dels Hostalets
  ofereix un espectacle a partir d’una mostra de patinatge artístic en g
 rup i individual. Els diners recaptats de l’entrada es destinen íntegra
 ment a la Marató de TV3.\nPreu: 2€
ATTACH;FMTTYPE=image/jpeg:https://elshostaletsdepierola.cat/wp-content/upl
 oads/2023/12/patinatgenadal.png
CATEGORIES:Esdeveniments,Esport,newsletter
LOCATION:Poliesportiu dels Hostalets de Pierola\, Carrer Catalunya\, 10\, E
 ls Hostalets de Pierola\, Barcelona\, 08781\, Catalunya\, Espanya
GEO:41.5327279;1.7702384000000393
X-APPLE-STRUCTURED-LOCATION;VALUE=URI;X-ADDRESS=Carrer Catalunya\, 10\, Els
  Hostalets de Pierola\, Barcelona\, 08781\, Catalunya\, Espanya;X-APPLE-RA
 DIUS=100;X-TITLE=Poliesportiu dels Hostalets de Pierola:geo:41.5327279,1.7
 702384000000393
END:VEVENT
BEGIN:VTIMEZONE
TZID:Europe/Madrid
X-LIC-LOCATION:Europe/Madrid
BEGIN:STANDARD
DTSTART:20231029T020000
TZOFFSETFROM:+0200
TZOFFSETTO:+0100
TZNAME:CET
END:STANDARD
END:VTIMEZONE
END:VCALENDAR