BEGIN:VCALENDAR
VERSION:2.0
PRODID:-//wp-events-plugin.com//7.2.3//EN
TZID:Europe/Madrid
X-WR-TIMEZONE:Europe/Madrid
BEGIN:VEVENT
UID:1848@elshostaletsdepierola.cat
DTSTART;TZID=Europe/Madrid:20221203T183000
DTEND;TZID=Europe/Madrid:20221203T200000
DTSTAMP:20221201T140012Z
URL:https://elshostaletsdepierola.cat/events/plantada-de-besties-i-cercavi
 la-amb-foc-pauissima/
SUMMARY:Plantada de bèsties i cercavila amb foc (Pauíssima)
DESCRIPTION:
ATTACH;FMTTYPE=image/jpeg:https://elshostaletsdepierola.cat/wp-content/upl
 oads/2022/11/img_2341.jpg
CATEGORIES:Cultura,Esdeveniments,Festes,newsletter
LOCATION:Plaça Cal Figueres\, Davant l'Ajuntament\, Els Hostalets de Piero
 la\, Espanya
X-APPLE-STRUCTURED-LOCATION;VALUE=URI;X-ADDRESS=Davant l'Ajuntament\, Els H
 ostalets de Pierola\, Espanya;X-APPLE-RADIUS=100;X-TITLE=Plaça Cal Figuer
 es:geo:0,0
END:VEVENT
BEGIN:VTIMEZONE
TZID:Europe/Madrid
X-LIC-LOCATION:Europe/Madrid
BEGIN:STANDARD
DTSTART:20221030T020000
TZOFFSETFROM:+0200
TZOFFSETTO:+0100
TZNAME:CET
END:STANDARD
END:VTIMEZONE
END:VCALENDAR