BEGIN:VCALENDAR
VERSION:2.0
PRODID:-//wp-events-plugin.com//7.2.3//EN
TZID:Europe/Madrid
X-WR-TIMEZONE:Europe/Madrid
BEGIN:VEVENT
UID:2114@elshostaletsdepierola.cat
DTSTART;TZID=Europe/Madrid:20230628T193000
DTEND;TZID=Europe/Madrid:20230628T200000
DTSTAMP:20230624T001656Z
URL:https://elshostaletsdepierola.cat/events/ple-extraordinari-8/
SUMMARY:Ple extraordinari
DESCRIPTION:
ATTACH;FMTTYPE=image/jpeg:https://elshostaletsdepierola.cat/wp-content/upl
 oads/2023/06/ple28623.png
CATEGORIES:Esdeveniments,Informació municipal
END:VEVENT
BEGIN:VTIMEZONE
TZID:Europe/Madrid
X-LIC-LOCATION:Europe/Madrid
BEGIN:DAYLIGHT
DTSTART:20230326T030000
TZOFFSETFROM:+0100
TZOFFSETTO:+0200
TZNAME:CEST
END:DAYLIGHT
END:VTIMEZONE
END:VCALENDAR