BEGIN:VCALENDAR
VERSION:2.0
PRODID:-//wp-events-plugin.com//7.2.3//EN
TZID:Europe/Madrid
X-WR-TIMEZONE:Europe/Madrid
BEGIN:VEVENT
UID:2520@elshostaletsdepierola.cat
DTSTART;TZID=Europe/Madrid:20240627T193000
DTEND;TZID=Europe/Madrid:20240627T194500
DTSTAMP:20240627T082004Z
URL:https://elshostaletsdepierola.cat/events/ple-extraordinari-9/
SUMMARY:Ple extraordinari
DESCRIPTION:Sessió a les 19.30 a l'auditori Cal Figueres.
ATTACH;FMTTYPE=image/jpeg:https://elshostaletsdepierola.cat/wp-content/upl
 oads/2024/06/ple27624.png
CATEGORIES:Esdeveniments,Política
END:VEVENT
BEGIN:VTIMEZONE
TZID:Europe/Madrid
X-LIC-LOCATION:Europe/Madrid
BEGIN:DAYLIGHT
DTSTART:20240331T030000
TZOFFSETFROM:+0100
TZOFFSETTO:+0200
TZNAME:CEST
END:DAYLIGHT
END:VTIMEZONE
END:VCALENDAR