BEGIN:VCALENDAR
VERSION:2.0
PRODID:-//wp-events-plugin.com//7.2.3//EN
TZID:Europe/Madrid
X-WR-TIMEZONE:Europe/Madrid
BEGIN:VEVENT
UID:19@elshostaletsdepierola.cat
DTSTART:20151119T193000Z
DTEND:20151119T220000Z
DTSTAMP:20151126T113419Z
URL:https://elshostaletsdepierola.cat/events/ple-ordinari-lajuntament-dels
 -hostalets-pierola/
SUMMARY:Ple Ordinari a l'Ajuntament dels Hostalets de Pierola
DESCRIPTION:
LOCATION:Ajuntament dels Hostalets de Pierola\, Plaça Cal Figueres 1\, Hos
 talets de Pierola\, Espanya
GEO:41.5348287;1.7685406000000512
X-APPLE-STRUCTURED-LOCATION;VALUE=URI;X-ADDRESS=Plaça Cal Figueres 1\, Hos
 talets de Pierola\, Espanya;X-APPLE-RADIUS=100;X-TITLE=Ajuntament dels Hos
 talets de Pierola:geo:41.5348287,1.7685406000000512
END:VEVENT
END:VCALENDAR