BEGIN:VCALENDAR
VERSION:2.0
PRODID:-//wp-events-plugin.com//7.2.3//EN
TZID:Europe/Madrid
X-WR-TIMEZONE:Europe/Madrid
BEGIN:VEVENT
UID:2594@elshostaletsdepierola.cat
DTSTART;TZID=Europe/Madrid:20241113T193000
DTEND;TZID=Europe/Madrid:20241113T193000
DTSTAMP:20241110T155137Z
URL:https://elshostaletsdepierola.cat/events/ple11132024/
SUMMARY:Ple municipal
DESCRIPTION:Sessió ordinària. Dimecres 13 de novembre 19.30h\nAuditori Ca
 l Figueres\n\nEmissió en directe a www.youtube.com/@hostalets\n\nOrdre de
 l dia\n\n 	1. Aprovació de la minuta d’acta de les sessions plenàries 
 de 18 de setembre i 16 d’octubre de 2024.\n 	2. Donar compte al ple de l
 a corporació de l’informe d’intervenció pel compliment d’obligacio
 ns contemplades a l’Ordre HAP/2105/2012\, d’1 d’octubre\, modificada
  per l’Ordre HAP/2082/2014\, de 7 de novembre - Llei orgànica 2/2012 
 – 3er. trimestre 2024.\n 	3. Donar compte informe d’intervenció sobre
  el període mig de pagament a proveïdors – 3er. trimestre 2024.\n 	4. 
 Donar compte del Decret d’Alcaldia d’aprovació del cost efectiu dels 
 serveis corresponent a l’exercici 2023\, d’acord amb els formularis de
  subministrament d’informació al Ministeri d’Hisenda i Administracion
 s públiques en compliment de les obligacions contemplades a l’ordre HAP
 /2075/2014.\n 	5. Aprovació increment retributiu interventor exercici 202
 4.\n 	6. Aprovació inicial modificació de crèdit núm. 9-2024 crèdit e
 xtraordinari i suplement de crèdit.\n 	7. Moció presentada per Junts pel
 s Hostalets\, per la pau\, aturem la guerra a Gaza i l’escalada bèl·li
 ca al Pròxim Orient.\n\nPart de seguiment i control:\n\n 	8. Donació de 
 compte dels Decrets dictats per l’Alcaldia - Presidència des del núm. 
 2024/552 al 2024/714.\n 	9. Assumptes sobrevinguts.\n 	10. Precs i pregunt
 es.\n
CATEGORIES:Esdeveniments,Política
LOCATION:Auditori de Cal Figueres\, Plaça de Cal Figueres\, 1\, Els Hostal
 ets de Pierola\, Catalunya\, 808781\, Espanya
GEO:41.5348287;1.7685406000000512
X-APPLE-STRUCTURED-LOCATION;VALUE=URI;X-ADDRESS=Plaça de Cal Figueres\, 1\
 , Els Hostalets de Pierola\, Catalunya\, 808781\, Espanya;X-APPLE-RADIUS=1
 00;X-TITLE=Auditori de Cal Figueres:geo:41.5348287,1.7685406000000512
END:VEVENT
BEGIN:VTIMEZONE
TZID:Europe/Madrid
X-LIC-LOCATION:Europe/Madrid
BEGIN:STANDARD
DTSTART:20241027T020000
TZOFFSETFROM:+0200
TZOFFSETTO:+0100
TZNAME:CET
END:STANDARD
END:VTIMEZONE
END:VCALENDAR