BEGIN:VCALENDAR
VERSION:2.0
PRODID:-//wp-events-plugin.com//7.2.3//EN
TZID:Europe/Madrid
X-WR-TIMEZONE:Europe/Madrid
BEGIN:VEVENT
UID:2249@elshostaletsdepierola.cat
DTSTART;TZID=Europe/Madrid:20231019T193000
DTEND;TZID=Europe/Madrid:20231019T213000
DTSTAMP:20231016T155821Z
URL:https://elshostaletsdepierola.cat/events/ple19102023/
SUMMARY:Ple extraordinari municipal
DESCRIPTION:El proper dijous 19 d'octubre a les 19:30 hores\, està previst
 a la celebració d'un ple extraordinari de l'Ajuntament dels Hostalets de 
 Pierola\, que tindrà lloc a la sala de plens (Auditori Cal Figueres).\n\n
 Podeu consultar l'ordre del dia al següent enllaç\n\nORDRE DEL DIA\n\nLa
  sessió la podreu seguir en streaming a través del canal de Youtube www.
 youtube.com/@comunicacioelshostaletsdep1431
CATEGORIES:Esdeveniments,Política
END:VEVENT
BEGIN:VTIMEZONE
TZID:Europe/Madrid
X-LIC-LOCATION:Europe/Madrid
BEGIN:DAYLIGHT
DTSTART:20230326T030000
TZOFFSETFROM:+0100
TZOFFSETTO:+0200
TZNAME:CEST
END:DAYLIGHT
END:VTIMEZONE
END:VCALENDAR