BEGIN:VCALENDAR
VERSION:2.0
PRODID:-//wp-events-plugin.com//7.2.3//EN
TZID:Europe/Madrid
X-WR-TIMEZONE:Europe/Madrid
BEGIN:VEVENT
UID:2713@elshostaletsdepierola.cat
DTSTART;TZID=Europe/Madrid:20250425T170000
DTEND;TZID=Europe/Madrid:20250425T183000
DTSTAMP:20250424T060612Z
URL:https://elshostaletsdepierola.cat/events/portes-obertes-la-granota/
SUMMARY:Portes obertes 'La Granota'
DESCRIPTION:
ATTACH;FMTTYPE=image/jpeg:https://elshostaletsdepierola.cat/wp-content/upl
 oads/2025/04/img-20250424-wa0005.jpg
CATEGORIES:Esdeveniments,Informació municipal
LOCATION:Llar Infants La Granota\, Ronda de Ponent S/N\, Els Hostalets de P
 ierola\, Espanya
GEO:41.5364801;1.770646700000043
X-APPLE-STRUCTURED-LOCATION;VALUE=URI;X-ADDRESS=Ronda de Ponent S/N\, Els H
 ostalets de Pierola\, Espanya;X-APPLE-RADIUS=100;X-TITLE=Llar Infants La G
 ranota:geo:41.5364801,1.770646700000043
END:VEVENT
BEGIN:VTIMEZONE
TZID:Europe/Madrid
X-LIC-LOCATION:Europe/Madrid
BEGIN:DAYLIGHT
DTSTART:20250330T030000
TZOFFSETFROM:+0100
TZOFFSETTO:+0200
TZNAME:CEST
END:DAYLIGHT
END:VTIMEZONE
END:VCALENDAR