BEGIN:VCALENDAR
VERSION:2.0
PRODID:-//wp-events-plugin.com//7.2.3//EN
TZID:Europe/Madrid
X-WR-TIMEZONE:Europe/Madrid
BEGIN:VEVENT
UID:2404@elshostaletsdepierola.cat
DTSTART;TZID=Europe/Madrid:20240322T190000
DTEND;TZID=Europe/Madrid:20240322T190000
DTSTAMP:20240321T171756Z
URL:https://elshostaletsdepierola.cat/events/presentacio-del-llibre-els-fe
 rrer-del-coll-terra-i-arrels/
SUMMARY:Presentació «Els Ferrer del Coll\, Terra i Arrels»
DESCRIPTION:Divendres 22 de març 19 hores\nTorre del Sr Enric\n\nCan Mata 
 Vell\, Pierola i la història del territori a partir de l'arxiu de Can Fer
 rer del Coll. Una tasca que ha requerit 10 anys de classificació\, organi
 tzació i transcripció documental\, fins al redactat final i edició del 
 llibre.
ATTACH;FMTTYPE=image/jpeg:https://elshostaletsdepierola.cat/wp-content/upl
 oads/2024/03/cartell-presentacio-llibre.jpeg
CATEGORIES:Cultura,Esdeveniments
LOCATION:Torre del Sr. Enric\, Plaça Eladi Conde s/n\, Els Hostalets de Pi
 erola\, Catalunya\, 808781\, Espanya
GEO:41.5369908;1.7658020000000079
X-APPLE-STRUCTURED-LOCATION;VALUE=URI;X-ADDRESS=Plaça Eladi Conde s/n\, El
 s Hostalets de Pierola\, Catalunya\, 808781\, Espanya;X-APPLE-RADIUS=100;X
 -TITLE=Torre del Sr. Enric:geo:41.5369908,1.7658020000000079
END:VEVENT
BEGIN:VTIMEZONE
TZID:Europe/Madrid
X-LIC-LOCATION:Europe/Madrid
BEGIN:STANDARD
DTSTART:20231029T020000
TZOFFSETFROM:+0200
TZOFFSETTO:+0100
TZNAME:CET
END:STANDARD
END:VTIMEZONE
END:VCALENDAR