BEGIN:VCALENDAR
VERSION:2.0
PRODID:-//wp-events-plugin.com//7.2.3//EN
TZID:Europe/Madrid
X-WR-TIMEZONE:Europe/Madrid
BEGIN:VEVENT
UID:5@elshostaletsdepierola.cat
DTSTART:20151017T100000Z
DTEND:20151017T140000Z
DTSTAMP:20151015T091841Z
URL:https://elshostaletsdepierola.cat/events/presentacio-dels-equips-s-e-c
 asal-catala/
SUMMARY:Presentació dels equips S.E. Casal Català
DESCRIPTION:
ATTACH;FMTTYPE=image/jpeg:https://elshostaletsdepierola.cat/wp-content/upl
 oads/2015/10/inici_temporada_2015_16.jpg
CATEGORIES:Esdeveniments
LOCATION:Pista poliesportiva\, Pista poliesportiva \, Els Hostalets de Pier
 ola\, Espanya
GEO:41.5348287;1.7685406000000512
X-APPLE-STRUCTURED-LOCATION;VALUE=URI;X-ADDRESS=Pista poliesportiva \, Els 
 Hostalets de Pierola\, Espanya;X-APPLE-RADIUS=100;X-TITLE=Pista poliesport
 iva:geo:41.5348287,1.7685406000000512
END:VEVENT
END:VCALENDAR