BEGIN:VCALENDAR
VERSION:2.0
PRODID:-//wp-events-plugin.com//7.2.3//EN
TZID:Europe/Madrid
X-WR-TIMEZONE:Europe/Madrid
BEGIN:VEVENT
UID:2517@elshostaletsdepierola.cat
DTSTART;TZID=Europe/Madrid:20240628T200000
DTEND;TZID=Europe/Madrid:20240628T200000
DTSTAMP:20240621T060953Z
URL:https://elshostaletsdepierola.cat/events/presentacio-llibre-el-chico-d
 e-la-sabana-africana/
SUMMARY:Presentació llibre "El chico de la sabana africana"
DESCRIPTION:\nDivendres 28 de juny de 2024 - 20.00 h\nMasia Can Robira (Avd
 a. Mirador\, 75C de Can Rovira de l'Estela)\nAparcament a l'interior de la
  masia\n\n\n\nEl pròxim divendres 28 de juny a les 20.00 hores\, l'hostal
 etenca Silvia Soler presenta el llibre «El chico de la sabana africana» 
 en un acte obert a tothom que tindrà lloc a la masia de Can Robira\, a Ca
 n Rovira de l'Estela. Una novel·la escrita en primera persona sobre una e
 xperiència real que ens situa a la sabana de Zimbàbue.\n.\nPresentació 
 del llibre «El chico de la sabana africana» a la masia de Can Robira del
 s Hostalets de Pierola amb la seva autora\, l'hostaletenca Silvia Soler qu
 e desgrana una història colpidora arrel de la seva vivència personal a l
 'Àfrica. Es tracta d'una novel·la editada per Ediciones Tambriz i escrit
 a en primera persona sobre una experiència real\, crua i vibrant situada 
 a Zimbàbue\, al sud del continent africà. Una història de veritable sup
 eració.\n.\nLa presentació la farà la santandreuenca Lis Cabello\, auto
 ra del llibre de poesia «Cuando canta el corazón»\, mentre que hi haur
 à una primera introducció a càrrec de l'alcalde dels Hostalets de Piero
 la\, Gerard Parcerisas\, qui donarà algunes pistes sobre l'argument del l
 libre i farà esment sobre la trajectòria de l'escriptora establerta actu
 alment als Hostalets de Pierola.\n.\nEn l'acte es podrà adquirir el llibr
 e on l'autora en signarà exemplars. El títol també està disponible a t
 ravés de l'enllaç de l'editorial.\n.\n&nbsp\;\n\n\n.\n\n\n\n\n
ATTACH;FMTTYPE=image/jpeg:https://elshostaletsdepierola.cat/wp-content/upl
 oads/2024/06/chicosabana.png
CATEGORIES:Cultura,Esdeveniments
END:VEVENT
BEGIN:VTIMEZONE
TZID:Europe/Madrid
X-LIC-LOCATION:Europe/Madrid
BEGIN:DAYLIGHT
DTSTART:20240331T030000
TZOFFSETFROM:+0100
TZOFFSETTO:+0200
TZNAME:CEST
END:DAYLIGHT
END:VTIMEZONE
END:VCALENDAR