BEGIN:VCALENDAR
VERSION:2.0
PRODID:-//wp-events-plugin.com//7.2.3//EN
TZID:Europe/Madrid
X-WR-TIMEZONE:Europe/Madrid
BEGIN:VEVENT
UID:2303@elshostaletsdepierola.cat
DTSTART;TZID=Europe/Madrid:20231202T180000
DTEND;TZID=Europe/Madrid:20231202T180000
DTSTAMP:20231130T071801Z
URL:https://elshostaletsdepierola.cat/events/presentacio-llibre-somiant-la
 -pau/
SUMMARY:Presentació llibre «Somiant la pau»
DESCRIPTION:Acte: Presentació del llibre «Somiant la pau. Una mirada femi
 nista al nou Afganistan dels talibans»\n\nTeatre del Casal Català\, a le
 s 18 hores.
CATEGORIES:Cultura,Esdeveniments,newsletter
END:VEVENT
BEGIN:VTIMEZONE
TZID:Europe/Madrid
X-LIC-LOCATION:Europe/Madrid
BEGIN:STANDARD
DTSTART:20231029T020000
TZOFFSETFROM:+0200
TZOFFSETTO:+0100
TZNAME:CET
END:STANDARD
END:VTIMEZONE
END:VCALENDAR