BEGIN:VCALENDAR
VERSION:2.0
PRODID:-//wp-events-plugin.com//7.2.3//EN
TZID:Europe/Madrid
X-WR-TIMEZONE:Europe/Madrid
BEGIN:VEVENT
UID:187@elshostaletsdepierola.cat
DTSTART:20161007T180000Z
DTEND:20161007T190000Z
DTSTAMP:20161004T124410Z
URL:https://elshostaletsdepierola.cat/events/presentacio-proces-participac
 io-nou-pavello-cobert/
SUMMARY:7 d'octubre. Presentació procés participació per nou pavelló co
 bert
DESCRIPTION:Tota la informació aquí.
ATTACH;FMTTYPE=image/jpeg:https://elshostaletsdepierola.cat/wp-content/upl
 oads/2016/10/PORTADA.jpg
CATEGORIES:Esdeveniments,Esport,newsletter
LOCATION:Auditori de Cal Figueres\, Plaça Cal Figueres 1\, Hostalets de Pi
 erola\, Espanya
GEO:41.5348287;1.7685406000000512
X-APPLE-STRUCTURED-LOCATION;VALUE=URI;X-ADDRESS=Plaça Cal Figueres 1\, Hos
 talets de Pierola\, Espanya;X-APPLE-RADIUS=100;X-TITLE=Auditori de Cal Fig
 ueres:geo:41.5348287,1.7685406000000512
END:VEVENT
END:VCALENDAR