BEGIN:VCALENDAR
VERSION:2.0
PRODID:-//wp-events-plugin.com//7.2.3//EN
TZID:Europe/Madrid
X-WR-TIMEZONE:Europe/Madrid
BEGIN:VEVENT
UID:2498@elshostaletsdepierola.cat
DTSTART;TZID=Europe/Madrid:20240621T173000
DTEND;TZID=Europe/Madrid:20240621T190000
DTSTAMP:20240528T061233Z
URL:https://elshostaletsdepierola.cat/events/punt-jove-al-carrer/
SUMMARY:Punt Jove al carrer
DESCRIPTION:Divendres 21 de juny |17.30h\n\nParc de Cal Ponsa
ATTACH;FMTTYPE=image/jpeg:https://elshostaletsdepierola.cat/wp-content/upl
 oads/2024/05/puntjovecarrer21juny.jpeg
CATEGORIES:Esdeveniments,Joventut
END:VEVENT
BEGIN:VTIMEZONE
TZID:Europe/Madrid
X-LIC-LOCATION:Europe/Madrid
BEGIN:DAYLIGHT
DTSTART:20240331T030000
TZOFFSETFROM:+0100
TZOFFSETTO:+0200
TZNAME:CEST
END:DAYLIGHT
END:VTIMEZONE
END:VCALENDAR