BEGIN:VCALENDAR
VERSION:2.0
PRODID:-//wp-events-plugin.com//7.2.3//EN
TZID:Europe/Madrid
X-WR-TIMEZONE:Europe/Madrid
BEGIN:VEVENT
UID:20@elshostaletsdepierola.cat
DTSTART:20151119T193000Z
DTEND:20151119T220000Z
DTSTAMP:20151126T114321Z
URL:https://elshostaletsdepierola.cat/events/punt-jove-xerrada-sobre-garan
 tia-juvenil/
SUMMARY:Punt Jove. Xerrada sobre la Garantia Juvenil
DESCRIPTION:
ATTACH;FMTTYPE=image/jpeg:https://elshostaletsdepierola.cat/wp-content/upl
 oads/2015/11/Joventut._Garantia_juvenil.jpg
CATEGORIES:Esdeveniments
LOCATION:Espai Entitats\, Plaça Cal Figueres 1\, Els Hostalets de Pierola\
 , Espanya
GEO:41.5348287;1.7685406000000512
X-APPLE-STRUCTURED-LOCATION;VALUE=URI;X-ADDRESS=Plaça Cal Figueres 1\, Els
  Hostalets de Pierola\, Espanya;X-APPLE-RADIUS=100;X-TITLE=Espai Entitats:
 geo:41.5348287,1.7685406000000512
END:VEVENT
END:VCALENDAR