BEGIN:VCALENDAR
VERSION:2.0
PRODID:-//wp-events-plugin.com//7.2.3//EN
TZID:Europe/Madrid
X-WR-TIMEZONE:Europe/Madrid
BEGIN:VEVENT
UID:1460@elshostaletsdepierola.cat
DTSTART:20220104T200000Z
DTEND:20220104T220000Z
DTSTAMP:20211230T135200Z
URL:https://elshostaletsdepierola.cat/events/recollida-dencarrecs-ssmm/
SUMMARY:Recollida d'encàrrecs SSMM
DESCRIPTION:
ATTACH;FMTTYPE=image/jpeg:https://elshostaletsdepierola.cat/wp-content/upl
 oads/2021/12/img_1084.jpg
CATEGORIES:Cultura,Esdeveniments,Festes,newsletter,Tradicions
LOCATION:Escola Renaixença\, Carrer de l'Esglèsia\, 82\, Els Hostalets de
  Pierola\, Spain\, 08781\, Espanya
GEO:41.5322568;1.797712400000023
X-APPLE-STRUCTURED-LOCATION;VALUE=URI;X-ADDRESS=Carrer de l'Esglèsia\, 82\
 , Els Hostalets de Pierola\, Spain\, 08781\, Espanya;X-APPLE-RADIUS=100;X-
 TITLE=Escola Renaixença:geo:41.5322568,1.797712400000023
END:VEVENT
END:VCALENDAR