BEGIN:VCALENDAR
VERSION:2.0
PRODID:-//wp-events-plugin.com//7.2.3//EN
TZID:Europe/Madrid
X-WR-TIMEZONE:Europe/Madrid
BEGIN:VEVENT
UID:2372@elshostaletsdepierola.cat
DTSTART;TZID=Europe/Madrid:20240209T170000
DTEND;TZID=Europe/Madrid:20240209T190000
DTSTAMP:20240205T112632Z
URL:https://elshostaletsdepierola.cat/events/rua-de-carnaval-2/
SUMMARY:Rua de Carnaval
DESCRIPTION:Divendres 9 de febrer\nActes previstos en la jornada on té llo
 c la rua de Carnaval.
ATTACH;FMTTYPE=image/jpeg:https://elshostaletsdepierola.cat/wp-content/upl
 oads/2024/01/rua2024.png
CATEGORIES:Esdeveniments,Festes
END:VEVENT
BEGIN:VTIMEZONE
TZID:Europe/Madrid
X-LIC-LOCATION:Europe/Madrid
BEGIN:STANDARD
DTSTART:20231029T020000
TZOFFSETFROM:+0200
TZOFFSETTO:+0100
TZNAME:CET
END:STANDARD
END:VTIMEZONE
END:VCALENDAR