BEGIN:VCALENDAR
VERSION:2.0
PRODID:-//wp-events-plugin.com//7.2.3//EN
TZID:Europe/Madrid
X-WR-TIMEZONE:Europe/Madrid
BEGIN:VEVENT
UID:1345@elshostaletsdepierola.cat
DTSTART:20210918T090000Z
DTEND:20210918T113000Z
DTSTAMP:20210916T124450Z
URL:https://elshostaletsdepierola.cat/events/ruta-a-peu-sumem-grans-quilom
 etres/
SUMMARY:SGG21 Ruta a peu
DESCRIPTION:
ATTACH;FMTTYPE=image/jpeg:https://elshostaletsdepierola.cat/wp-content/upl
 oads/2021/09/img_2103.jpg
CATEGORIES:Esdeveniments,Festes,Gent Gran,newsletter
LOCATION:Parc de Cal Ponsa\, carrer d'Anselm Clavé\, Els Hostalets de Pier
 ola\, Catalunya\, Espanya
GEO:41.5332307;1.772399500000006
X-APPLE-STRUCTURED-LOCATION;VALUE=URI;X-ADDRESS=carrer d'Anselm Clavé\, El
 s Hostalets de Pierola\, Catalunya\, Espanya;X-APPLE-RADIUS=100;X-TITLE=Pa
 rc de Cal Ponsa:geo:41.5332307,1.772399500000006
END:VEVENT
END:VCALENDAR