BEGIN:VCALENDAR
VERSION:2.0
PRODID:-//wp-events-plugin.com//7.2.3//EN
TZID:Europe/Madrid
X-WR-TIMEZONE:Europe/Madrid
BEGIN:VEVENT
UID:2376@elshostaletsdepierola.cat
DTSTART;TZID=Europe/Madrid:20240322T170000
DTEND;TZID=Europe/Madrid:20240322T210000
DTSTAMP:20240321T170738Z
URL:https://elshostaletsdepierola.cat/events/sang20240322/
SUMMARY:Acapte de sang
DESCRIPTION:Aquest divendres 22 de març\, de 17 a 21 hores\, s'organitza u
 na campanya de donació de sang a l'Auditori Cal Figueres\n\nMés informac
 ió i reserva prèvia al següent enllaç
ATTACH;FMTTYPE=image/jpeg:https://elshostaletsdepierola.cat/wp-content/upl
 oads/2019/12/acaptesang.jpg
CATEGORIES:Esdeveniments,Salut
END:VEVENT
BEGIN:VTIMEZONE
TZID:Europe/Madrid
X-LIC-LOCATION:Europe/Madrid
BEGIN:STANDARD
DTSTART:20231029T020000
TZOFFSETFROM:+0200
TZOFFSETTO:+0100
TZNAME:CET
END:STANDARD
END:VTIMEZONE
END:VCALENDAR