BEGIN:VCALENDAR
VERSION:2.0
PRODID:-//wp-events-plugin.com//7.2.3//EN
TZID:Europe/Madrid
X-WR-TIMEZONE:Europe/Madrid
BEGIN:VEVENT
UID:3@elshostaletsdepierola.cat
DTSTART:20150917T173000Z
DTEND:20150917T200000Z
DTSTAMP:20150917T094555Z
URL:https://elshostaletsdepierola.cat/events/saps-on-poses-els-teus-diners
 /
SUMMARY:Saps on poses els teus diners?
DESCRIPTION:Saps que fas amb els teus diners? Xerrada de l’Oficina de Con
 sum de la Diputació de Barcelona sobre productes financers i assegurances
 .\n\nDurant la xerrada es donaran consells i pautes per al moment de la co
 ntractació d’aquests tipus de productes.\n\nLloc: Casal d’Avis.\nQuan
 : Dijous\, 17 de setembre\nHora: 17.30h.
ATTACH;FMTTYPE=image/jpeg:https://elshostaletsdepierola.cat/wp-content/upl
 oads/2015/09/QUE_FAS_AMB_ELS_TEUS_DINERS.jpg
CATEGORIES:Esdeveniments
LOCATION:Hostalets de Pierola\, Plaça Cal Figueres\, Els Hostalets de Pier
 ola\, Barcelona\, 08784\, Espanya
GEO:41.5340289;1.770080499999949
X-APPLE-STRUCTURED-LOCATION;VALUE=URI;X-ADDRESS=Plaça Cal Figueres\, Els H
 ostalets de Pierola\, Barcelona\, 08784\, Espanya;X-APPLE-RADIUS=100;X-TIT
 LE=Hostalets de Pierola:geo:41.5340289,1.770080499999949
END:VEVENT
END:VCALENDAR