BEGIN:VCALENDAR
VERSION:2.0
PRODID:-//wp-events-plugin.com//7.2.3//EN
TZID:Europe/Madrid
X-WR-TIMEZONE:Europe/Madrid
BEGIN:VEVENT
UID:2590@elshostaletsdepierola.cat
DTSTART;TZID=Europe/Madrid:20241109T110000
DTEND;TZID=Europe/Madrid:20241109T110000
DTSTAMP:20241031T095920Z
URL:https://elshostaletsdepierola.cat/events/sessio-informativa-recollida-
 selectiva-i-taxa-residus-2/
SUMMARY:Sessió informativa recollida selectiva i taxa residus
DESCRIPTION:Sessió informativa adreçada a la ciutadana per presentar el b
 alanç dels dos primers anys del model de recollida selectiva porta a port
 a al municipi i la nova taxa de residus\, i per atendre preguntes i consul
 tes dels veïns i veïnes.\n\nDissabte 9 de novembre | 11.00 hores Local S
 ocial Montserrat Can Fosalba
ATTACH;FMTTYPE=image/jpeg:https://elshostaletsdepierola.cat/wp-content/upl
 oads/2024/10/pap.png
CATEGORIES:Esdeveniments,Medi Ambient
LOCATION:Casal Montserrat Can Fosalba\, Can Fosalba\, Els Hostalets de Pier
 ola\, Espanya
GEO:41.5444542;1.8107836000000361
X-APPLE-STRUCTURED-LOCATION;VALUE=URI;X-ADDRESS=Can Fosalba\, Els Hostalets
  de Pierola\, Espanya;X-APPLE-RADIUS=100;X-TITLE=Casal Montserrat Can Fosa
 lba:geo:41.5444542,1.8107836000000361
END:VEVENT
BEGIN:VTIMEZONE
TZID:Europe/Madrid
X-LIC-LOCATION:Europe/Madrid
BEGIN:STANDARD
DTSTART:20241027T020000
TZOFFSETFROM:+0200
TZOFFSETTO:+0100
TZNAME:CET
END:STANDARD
END:VTIMEZONE
END:VCALENDAR