BEGIN:VCALENDAR
VERSION:2.0
PRODID:-//wp-events-plugin.com//7.2.3//EN
TZID:Europe/Madrid
X-WR-TIMEZONE:Europe/Madrid
BEGIN:VEVENT
UID:2589@elshostaletsdepierola.cat
DTSTART;TZID=Europe/Madrid:20241107T190000
DTEND;TZID=Europe/Madrid:20241107T190000
DTSTAMP:20241031T095734Z
URL:https://elshostaletsdepierola.cat/events/sessio-informativa-recollida-
 selectiva-i-taxa-residus/
SUMMARY:Sessió informativa recollida selectiva i taxa residus
DESCRIPTION:Sessió informativa adreçada a la ciutadana per presentar el b
 alanç dels dos primers anys del model de recollida selectiva porta a port
 a al municipi i la nova taxa de residus\, i per atendre preguntes i consul
 tes dels veïns i veïnes.\n\nDijous 7 de novembre | 19.00 hores Auditori 
 Cal Figueres
ATTACH;FMTTYPE=image/jpeg:https://elshostaletsdepierola.cat/wp-content/upl
 oads/2024/10/pap.png
CATEGORIES:Esdeveniments,Medi Ambient
END:VEVENT
BEGIN:VTIMEZONE
TZID:Europe/Madrid
X-LIC-LOCATION:Europe/Madrid
BEGIN:STANDARD
DTSTART:20241027T020000
TZOFFSETFROM:+0200
TZOFFSETTO:+0100
TZNAME:CET
END:STANDARD
END:VTIMEZONE
END:VCALENDAR