BEGIN:VCALENDAR
VERSION:2.0
PRODID:-//wp-events-plugin.com//7.2.3//EN
TZID:Europe/Madrid
X-WR-TIMEZONE:Europe/Madrid
BEGIN:VEVENT
UID:2506@elshostaletsdepierola.cat
DTSTART;TZID=Europe/Madrid:20240612T171500
DTEND;TZID=Europe/Madrid:20240612T193000
DTSTAMP:20240607T062154Z
URL:https://elshostaletsdepierola.cat/events/sessio-menstrualitat-per-a-ma
 res-i-filles/
SUMMARY:Sessió menstrualitat per a mares i filles
DESCRIPTION:Dimecres 12 de juny | 17.15h Torre del Sr. Enric\nSessió "Re-c
 oneixent les primeres menstruacions"\n\nInscripcions a infoartemeia@gmail.
 com
ATTACH;FMTTYPE=image/jpeg:https://elshostaletsdepierola.cat/wp-content/upl
 oads/2024/06/menstrualitat12.jpeg
CATEGORIES:Esdeveniments
LOCATION:Torre del Sr. Enric\, Plaça Eladi Conde s/n\, Els Hostalets de Pi
 erola\, Catalunya\, 808781\, Espanya
GEO:41.5369908;1.7658020000000079
X-APPLE-STRUCTURED-LOCATION;VALUE=URI;X-ADDRESS=Plaça Eladi Conde s/n\, El
 s Hostalets de Pierola\, Catalunya\, 808781\, Espanya;X-APPLE-RADIUS=100;X
 -TITLE=Torre del Sr. Enric:geo:41.5369908,1.7658020000000079
END:VEVENT
BEGIN:VTIMEZONE
TZID:Europe/Madrid
X-LIC-LOCATION:Europe/Madrid
BEGIN:DAYLIGHT
DTSTART:20240331T030000
TZOFFSETFROM:+0100
TZOFFSETTO:+0200
TZNAME:CEST
END:DAYLIGHT
END:VTIMEZONE
END:VCALENDAR