BEGIN:VCALENDAR
VERSION:2.0
PRODID:-//wp-events-plugin.com//7.2.3//EN
TZID:Europe/Madrid
X-WR-TIMEZONE:Europe/Madrid
BEGIN:VEVENT
UID:92@elshostaletsdepierola.cat
DTSTART:20160401T180000Z
DTEND:20160401T193000Z
DTSTAMP:20160331T133239Z
URL:https://elshostaletsdepierola.cat/events/setmana-gent-gran-recital-mon
 tse-carulla/
SUMMARY:1 d'abril. Setmana de la Gent Gran. Recital amb Montse Carulla
DESCRIPTION:Recital molt potent i sentimental\, és (com bé diu al vostre 
 programa) una reflexió\, que inclou la seva vida\, les seves inquietuds\,
  i la seva retirada dels escenaris\, partint de textos que\, en aquest cas
 \, són textos propis i de Josep Palau i Fabre\, Verdaguer\, Salvador Espr
 iu\, Joan Oliver\, Antonio Machado\, Miguel Hernández\, Joan Salvat Papas
 eit\, Pedro Salinas\, Pere Calders\, Jose Agustín Goytisolo\, Dino Buzzat
 i\, petits fragments teatrals de Shakespere (versió de Josep Maria de Seg
 arra)\, Àngel Guimerà i Joan Oliver\, i fragments de discursos de Macià
  i Companys\, entre d’altres i a banda de cites històriques. Tot plegat
  amb músiques ben reconeixibles i adequades.\n\nEs tracta\, doncs\, d’u
 n espectacle molt més humà\, molt més sentimental que no pas l’anteri
 or\, i a Hostalets de Pierola sereu els primers de gaudir-ne. Tindrà una 
 durada aproximada d’una hora.
ATTACH;FMTTYPE=image/jpeg:https://elshostaletsdepierola.cat/wp-content/upl
 oads/2016/03/carulla.jpg
CATEGORIES:Cultura,Esdeveniments,Gent Gran,newsletter
LOCATION:Auditori de Cal Figueres\, Plaça Cal Figueres 1\, Hostalets de Pi
 erola\, Espanya
GEO:41.5348287;1.7685406000000512
X-APPLE-STRUCTURED-LOCATION;VALUE=URI;X-ADDRESS=Plaça Cal Figueres 1\, Hos
 talets de Pierola\, Espanya;X-APPLE-RADIUS=100;X-TITLE=Auditori de Cal Fig
 ueres:geo:41.5348287,1.7685406000000512
END:VEVENT
END:VCALENDAR