BEGIN:VCALENDAR
VERSION:2.0
PRODID:-//wp-events-plugin.com//7.2.3//EN
TZID:Europe/Madrid
X-WR-TIMEZONE:Europe/Madrid
BEGIN:VEVENT
UID:74@elshostaletsdepierola.cat
DTSTART:20160318T180000Z
DTEND:20160318T190000Z
DTSTAMP:20160314T185910Z
URL:https://elshostaletsdepierola.cat/events/setmana-santa-18-de-marc-hora
 -del-conte/
SUMMARY:18 de març. Setmana Santa: Hora del conte
DESCRIPTION:
ATTACH;FMTTYPE=image/jpeg:https://elshostaletsdepierola.cat/wp-content/upl
 oads/2016/03/dia-18-hora-del-conte.jpg
CATEGORIES:Cultura,Esdeveniments,newsletter
LOCATION:Biblio@ccés\, Anselm Clavé\, 6\, Els Hostalets de Pierola\, Espa
 nya
GEO:41.53285;1.7733405000000175
X-APPLE-STRUCTURED-LOCATION;VALUE=URI;X-ADDRESS=Anselm Clavé\, 6\, Els Hos
 talets de Pierola\, Espanya;X-APPLE-RADIUS=100;X-TITLE=Biblio@ccés:geo:41
 .53285,1.7733405000000175
END:VEVENT
END:VCALENDAR