BEGIN:VCALENDAR
VERSION:2.0
PRODID:-//wp-events-plugin.com//7.2.3//EN
TZID:Europe/Madrid
X-WR-TIMEZONE:Europe/Madrid
BEGIN:VEVENT
UID:1360@elshostaletsdepierola.cat
DTSTART:20210924T110000Z
DTEND:20210924T140000Z
DTSTAMP:20210922T205132Z
URL:https://elshostaletsdepierola.cat/events/sgg21-dinar-de-tardor/
SUMMARY:SGG21 Dinar de tardor
DESCRIPTION:
ATTACH;FMTTYPE=image/jpeg:https://elshostaletsdepierola.cat/wp-content/upl
 oads/2021/09/img_2118.jpg
CATEGORIES:Esdeveniments,Festes,Gent Gran,newsletter
LOCATION:Centre d'Atenció a la Gent Gran\, Carrer d'Àngel Guimerà s/n\, 
 Els Hostalets de Pierola\, Barcelona\, 08781\, Espanya
GEO:39.46991209999999;-0.3874498999999787
X-APPLE-STRUCTURED-LOCATION;VALUE=URI;X-ADDRESS=Carrer d'Àngel Guimerà s/
 n\, Els Hostalets de Pierola\, Barcelona\, 08781\, Espanya;X-APPLE-RADIUS=
 100;X-TITLE=Centre d'Atenció a la Gent Gran:geo:39.46991209999999,-0.3874
 498999999787
END:VEVENT
END:VCALENDAR