BEGIN:VCALENDAR
VERSION:2.0
PRODID:-//wp-events-plugin.com//7.2.3//EN
TZID:Europe/Madrid
X-WR-TIMEZONE:Europe/Madrid
BEGIN:VEVENT
UID:2281@elshostaletsdepierola.cat
DTSTART;TZID=Europe/Madrid:20231111T183000
DTEND;TZID=Europe/Madrid:20231111T200000
DTSTAMP:20231109T124419Z
URL:https://elshostaletsdepierola.cat/events/solan-eri-missio-a-la-lluna/
SUMMARY:Solan & Eri\, missió a la Lluna
DESCRIPTION:50 anys després de la mítica arribada de l’home a la Lluna\
 , el Solan i l’Eri s’embarquen en una aventura espacial\, per fer-hi e
 l segon pas. Amb l’ajuda del seu amic inventor i d’enginyoses eines\, 
 aconseguiran construir la seva nau i arribar a l’espai? Una pel·lícula
  plena de detalls imaginatius i personatges entranyables amb un rerefons i
 rònic sobre els esdeveniments polítics actuals.\n\nRecomanada a partir d
 els 5 anys. 80 minuts. Entrada 2€.\n\nhttps://www.youtube.com/watch?v=1n
 ahQQMbM_M
ATTACH;FMTTYPE=image/jpeg:https://elshostaletsdepierola.cat/wp-content/upl
 oads/2023/11/solaneri.png
CATEGORIES:Cultura,Esdeveniments,newsletter
LOCATION:Auditori Cal Figueres\, Plaça Cal Figueres 1\, Hostalets de Piero
 la\, Espanya
X-APPLE-STRUCTURED-LOCATION;VALUE=URI;X-ADDRESS=Plaça Cal Figueres 1\, Hos
 talets de Pierola\, Espanya;X-APPLE-RADIUS=100;X-TITLE=Auditori Cal Figuer
 es:geo:0,0
END:VEVENT
BEGIN:VTIMEZONE
TZID:Europe/Madrid
X-LIC-LOCATION:Europe/Madrid
BEGIN:STANDARD
DTSTART:20231029T020000
TZOFFSETFROM:+0200
TZOFFSETTO:+0100
TZNAME:CET
END:STANDARD
END:VTIMEZONE
END:VCALENDAR