BEGIN:VCALENDAR
VERSION:2.0
PRODID:-//wp-events-plugin.com//7.2.3//EN
TZID:Europe/Madrid
X-WR-TIMEZONE:Europe/Madrid
BEGIN:VEVENT
UID:2473@elshostaletsdepierola.cat
DTSTART;TZID=Europe/Madrid:20240608T180000
DTEND;TZID=Europe/Madrid:20240608T180000
DTSTAMP:20240429T055951Z
URL:https://elshostaletsdepierola.cat/events/sortida-al-teatre/
SUMMARY:Sortida al teatre
DESCRIPTION:Dissabte 8 de juny | Sortida plaça Països Catalans 18h\nSorti
 da al teatre Victòria per veure l'obra Solo amb Arturo Brachetti.\n\nPreu
  entrada més transport: Socis 40 € | No socis 45 €\nReserva i compra 
 d'entrades fins al 18 de maig: Torre del Sr. Enric\, Cal Diumenjó. Mercè
  tf: 647 573 153
ATTACH;FMTTYPE=image/jpeg:https://elshostaletsdepierola.cat/wp-content/upl
 oads/2024/04/teatrehostalets.png
CATEGORIES:Cultura,Esdeveniments
LOCATION:Plaça dels Països Catalans\, Plaça dels Països Catalans\, Els 
 Hostalets de Pierola\, Espanya
X-APPLE-STRUCTURED-LOCATION;VALUE=URI;X-ADDRESS=Plaça dels Països Catalan
 s\, Els Hostalets de Pierola\, Espanya;X-APPLE-RADIUS=100;X-TITLE=Plaça d
 els Països Catalans:geo:0,0
END:VEVENT
BEGIN:VTIMEZONE
TZID:Europe/Madrid
X-LIC-LOCATION:Europe/Madrid
BEGIN:DAYLIGHT
DTSTART:20240331T030000
TZOFFSETFROM:+0100
TZOFFSETTO:+0200
TZNAME:CEST
END:DAYLIGHT
END:VTIMEZONE
END:VCALENDAR