BEGIN:VCALENDAR
VERSION:2.0
PRODID:-//wp-events-plugin.com//7.2.3//EN
TZID:Europe/Madrid
X-WR-TIMEZONE:Europe/Madrid
BEGIN:VEVENT
UID:2812@elshostaletsdepierola.cat
DTSTART;TZID=Europe/Madrid:20251122T183000
DTEND;TZID=Europe/Madrid:20251122T230000
DTSTAMP:20251010T061259Z
URL:https://elshostaletsdepierola.cat/events/sortida-teatre-la-trena/
SUMMARY:Sortida teatre: La trena
DESCRIPTION:L'associació de Dones dels Hostalets organitza aquesta sortida
  amb data límit de reserves per al 29 d'octubre.
ATTACH;FMTTYPE=image/jpeg:https://elshostaletsdepierola.cat/wp-content/upl
 oads/2025/10/latrena.png
CATEGORIES:Cultura,Esdeveniments
LOCATION:Plaça dels Països Catalans\, Plaça dels Països Catalans\, Els 
 Hostalets de Pierola\, Espanya
X-APPLE-STRUCTURED-LOCATION;VALUE=URI;X-ADDRESS=Plaça dels Països Catalan
 s\, Els Hostalets de Pierola\, Espanya;X-APPLE-RADIUS=100;X-TITLE=Plaça d
 els Països Catalans:geo:0,0
END:VEVENT
BEGIN:VTIMEZONE
TZID:Europe/Madrid
X-LIC-LOCATION:Europe/Madrid
BEGIN:STANDARD
DTSTART:20251026T020000
TZOFFSETFROM:+0200
TZOFFSETTO:+0100
TZNAME:CET
END:STANDARD
END:VTIMEZONE
END:VCALENDAR