BEGIN:VCALENDAR
VERSION:2.0
PRODID:-//wp-events-plugin.com//7.2.3//EN
TZID:Europe/Madrid
X-WR-TIMEZONE:Europe/Madrid
BEGIN:VEVENT
UID:2292@elshostaletsdepierola.cat
DTSTART;TZID=Europe/Madrid:20231202T100000
DTEND;TZID=Europe/Madrid:20231202T120000
DTSTAMP:20231130T071654Z
URL:https://elshostaletsdepierola.cat/events/taller-aprendre-a-meditar-i-c
 inema-conscient/
SUMMARY:Taller Aprendre a meditar i cinema conscient
DESCRIPTION:Sessió del taller "Aprendre a meditar"\, que presenta nova pro
 posta de cinema conscient\, amb el passi de la pel·lícula "Las nueve rev
 elaciones".\n\nDe 10 a 12 hores\, a la Torre del Sr. Enric (1a planta). M
 és informació al telèfon 631262567
ATTACH;FMTTYPE=image/jpeg:https://elshostaletsdepierola.cat/wp-content/upl
 oads/2023/11/cartellcineforum.png
CATEGORIES:Esdeveniments,newsletter,Salut
LOCATION:Torre del Sr. Enric\, Plaça Eladi Conde s/n\, Els Hostalets de Pi
 erola\, Catalunya\, 808781\, Espanya
GEO:41.5369908;1.7658020000000079
X-APPLE-STRUCTURED-LOCATION;VALUE=URI;X-ADDRESS=Plaça Eladi Conde s/n\, El
 s Hostalets de Pierola\, Catalunya\, 808781\, Espanya;X-APPLE-RADIUS=100;X
 -TITLE=Torre del Sr. Enric:geo:41.5369908,1.7658020000000079
END:VEVENT
BEGIN:VTIMEZONE
TZID:Europe/Madrid
X-LIC-LOCATION:Europe/Madrid
BEGIN:STANDARD
DTSTART:20231029T020000
TZOFFSETFROM:+0200
TZOFFSETTO:+0100
TZNAME:CET
END:STANDARD
END:VTIMEZONE
END:VCALENDAR